BEGIN:VCALENDAR
VERSION:2.0
PRODID:-//Black Dog Wine Company - ECPv6.15.17.1//NONSGML v1.0//EN
CALSCALE:GREGORIAN
METHOD:PUBLISH
X-ORIGINAL-URL:https://blackdogwinecompany.com
X-WR-CALDESC:Events for Black Dog Wine Company
REFRESH-INTERVAL;VALUE=DURATION:PT1H
X-Robots-Tag:noindex
X-PUBLISHED-TTL:PT1H
BEGIN:VTIMEZONE
TZID:America/New_York
BEGIN:DAYLIGHT
TZOFFSETFROM:-0500
TZOFFSETTO:-0400
TZNAME:EDT
DTSTART:20250309T070000
END:DAYLIGHT
BEGIN:STANDARD
TZOFFSETFROM:-0400
TZOFFSETTO:-0500
TZNAME:EST
DTSTART:20251102T060000
END:STANDARD
BEGIN:DAYLIGHT
TZOFFSETFROM:-0500
TZOFFSETTO:-0400
TZNAME:EDT
DTSTART:20260308T070000
END:DAYLIGHT
BEGIN:STANDARD
TZOFFSETFROM:-0400
TZOFFSETTO:-0500
TZNAME:EST
DTSTART:20261101T060000
END:STANDARD
BEGIN:DAYLIGHT
TZOFFSETFROM:-0500
TZOFFSETTO:-0400
TZNAME:EDT
DTSTART:20270314T070000
END:DAYLIGHT
BEGIN:STANDARD
TZOFFSETFROM:-0400
TZOFFSETTO:-0500
TZNAME:EST
DTSTART:20271107T060000
END:STANDARD
END:VTIMEZONE
BEGIN:VEVENT
DTSTART;TZID=America/New_York:20260109T190000
DTEND;TZID=America/New_York:20260109T210000
DTSTAMP:20260421T180838
CREATED:20251217T222354Z
LAST-MODIFIED:20260110T040726Z
UID:24465-1767985200-1767992400@blackdogwinecompany.com
SUMMARY:Live music: Core Acoustic MusicScene
DESCRIPTION:Get ready to immerse yourself in the vibrant sounds of Core Acoustic MusicScene – a live music experience like no other!
URL:https://blackdogwinecompany.com/event/live-music-core-acoustic-musicscene-2/
LOCATION:Black Dog Wine Company\, 7425 Steubenville Pike\, Oakdale\, PA\, 15071\, United States
ATTACH;FMTTYPE=image/jpeg:https://blackdogwinecompany.com/wp-content/uploads/2025/12/f2193468dd71456aa94f928af4c4381d.jpg
END:VEVENT
BEGIN:VEVENT
DTSTART;TZID=America/New_York:20260110T190000
DTEND;TZID=America/New_York:20260110T210000
DTSTAMP:20260421T180838
CREATED:20251217T222355Z
LAST-MODIFIED:20260111T040733Z
UID:24470-1768071600-1768078800@blackdogwinecompany.com
SUMMARY:Live music: Briana Merkel Duo
DESCRIPTION:Get ready to groove with the Briana Merkel Duo\, bringing you a night of live music you won’t want to miss!
URL:https://blackdogwinecompany.com/event/live-music-briana-merkel-duo/
LOCATION:Black Dog Wine Company\, 7425 Steubenville Pike\, Oakdale\, PA\, 15071\, United States
ATTACH;FMTTYPE=image/jpeg:https://blackdogwinecompany.com/wp-content/uploads/2025/12/ba24c41696e5c4993f44b03136ead636.jpg
END:VEVENT
BEGIN:VEVENT
DTSTART;TZID=America/New_York:20260116T190000
DTEND;TZID=America/New_York:20260116T210000
DTSTAMP:20260421T180838
CREATED:20260112T125720Z
LAST-MODIFIED:20260117T040738Z
UID:25554-1768590000-1768597200@blackdogwinecompany.com
SUMMARY:Live Music: Zacharia Tayler
DESCRIPTION:Get ready to rock out to Zacharia Tayler’s live music performance\, it’s gonna be a night to remember!
URL:https://blackdogwinecompany.com/event/live-music-zacharia-tayler/
LOCATION:Black Dog Wine Company\, 7425 Steubenville Pike\, Oakdale\, PA\, 15071\, United States
ATTACH;FMTTYPE=image/jpeg:https://blackdogwinecompany.com/wp-content/uploads/2026/01/2da5d701c215b8a18e35e74561634fa2.jpg
END:VEVENT
BEGIN:VEVENT
DTSTART;TZID=America/New_York:20260117T180000
DTEND;TZID=America/New_York:20260117T220000
DTSTAMP:20260421T180838
CREATED:20251211T003921Z
LAST-MODIFIED:20260118T040738Z
UID:24123-1768672800-1768687200@blackdogwinecompany.com
SUMMARY:The Bootleggers Ball at Black Dog Wine Company
DESCRIPTION:Black Dog Wine Company is throwing the most roaring party of the new year\, and you’re invited to sneak behind the velvet curtain…\n\n\n🎩✨ Step Back in Time at the Bootleggers Ball! ✨🎩Did you know that our Rathskeller was rumored to be a Speakeasy during Prohibition? Well\,  now you do! Black Dog Wine Company is throwing the most roaring party of the new year\, and you’re invited to sneak behind the velvet curtain… \n \n📅 Saturday\, January 17th\, 2026 (the very night Prohibition began!)⏰ 6–10 PM💸 Tickets: $50 \n \nYour ticket includes:🥂 A complimentary glass of champagne🍴 Heavy hors d’oeuvres & decadent desserts🎶 Live entertainment from Lisa J and The Trio \nBut that’s just the beginning…you can also expect (and more!): \n💨 Cigars for purchase🥃 Bourbon tastings🕺 A professional choreographer ready to teach you how to dance like it’s the Roaring Twenties✨ And every room? Packed with a surprise waiting to be discovered. We are adding more excitement daily! \n \n👗 STRICT DRESS CODE:This is a full 1920s affair — flapper dresses\, suspenders\, feathers\, pearls\, bow ties\, gloves\, the works. No modern attire allowed. Let’s make this a party Gatsby would be proud of. \nAnd remember… you’ll need the password to get in—but don’t worry\, we’ll slip it to you before the event. 😉 \nTrust us\, you won’t want to miss this.Are you in old chap?
URL:https://blackdogwinecompany.com/event/the-bootleggers-ball-at-black-dog-wine-company/
LOCATION:Black Dog Wine Company\, 7425 Steubenville Pike\, Oakdale\, PA\, 15071\, United States
ATTACH;FMTTYPE=image/jpeg:https://blackdogwinecompany.com/wp-content/uploads/2025/12/8a36eb2fd3cd984b78fda82d70618d94.jpg
END:VEVENT
BEGIN:VEVENT
DTSTART;TZID=America/New_York:20260122T190000
DTEND;TZID=America/New_York:20260122T210000
DTSTAMP:20260421T180838
CREATED:20260106T131151Z
LAST-MODIFIED:20260123T035233Z
UID:25246-1769108400-1769115600@blackdogwinecompany.com
SUMMARY:Trivia with Brain Detail Trivia
DESCRIPTION:Get ready to put your brain to the test with Brain Detail Trivia – it’s going to be a fun and challenging night!
URL:https://blackdogwinecompany.com/event/trivia-with-brain-detail-trivia/
LOCATION:Black Dog Wine Company\, 7425 Steubenville Pike\, Oakdale\, PA\, 15071\, United States
ATTACH;FMTTYPE=image/jpeg:https://blackdogwinecompany.com/wp-content/uploads/2026/01/92e952e9ef1516c503ddf0cd500d5257.jpg
END:VEVENT
BEGIN:VEVENT
DTSTART;TZID=America/New_York:20260123T190000
DTEND;TZID=America/New_York:20260123T210000
DTSTAMP:20260421T180838
CREATED:20260112T125709Z
LAST-MODIFIED:20260124T035241Z
UID:25556-1769194800-1769202000@blackdogwinecompany.com
SUMMARY:Live music: Ashley Best
DESCRIPTION:Get ready to rock out with Ashley Best live\, it’s gonna be a night to remember!
URL:https://blackdogwinecompany.com/event/live-music-ashley-best-2/
LOCATION:Black Dog Wine Company\, 7425 Steubenville Pike\, Oakdale\, PA\, 15071\, United States
ATTACH;FMTTYPE=image/jpeg:https://blackdogwinecompany.com/wp-content/uploads/2026/01/df0fcb51cba17efe1494a7c9b0485f9b.jpg
END:VEVENT
BEGIN:VEVENT
DTSTART;TZID=America/New_York:20260124T190000
DTEND;TZID=America/New_York:20260124T210000
DTSTAMP:20260421T180838
CREATED:20260112T193442Z
LAST-MODIFIED:20260125T041517Z
UID:25585-1769281200-1769288400@blackdogwinecompany.com
SUMMARY:Live music: Keerstin Rochelle
DESCRIPTION:Get ready to vibe with the soulful tunes of Keerstin McKain\, it’s going to be a night to remember!
URL:https://blackdogwinecompany.com/event/live-music-keerstin-rochelle/
LOCATION:Black Dog Wine Company\, 7425 Steubenville Pike\, Oakdale\, PA\, 15071\, United States
ATTACH;FMTTYPE=image/jpeg:https://blackdogwinecompany.com/wp-content/uploads/2026/01/d2b9b1d25bb4c48eb2568966691c7cbf.jpg
END:VEVENT
BEGIN:VEVENT
DTSTART;TZID=America/New_York:20260130T190000
DTEND;TZID=America/New_York:20260130T210000
DTSTAMP:20260421T180838
CREATED:20260127T160922Z
LAST-MODIFIED:20260131T043856Z
UID:26308-1769799600-1769806800@blackdogwinecompany.com
SUMMARY:Live music: Cook McKoy
DESCRIPTION:Get ready to rock out with Cook McKoy live – it’s gonna be a night to remember!
URL:https://blackdogwinecompany.com/event/live-music-cook-mckoy/
LOCATION:Black Dog Wine Company\, 7425 Steubenville Pike\, Oakdale\, PA\, 15071\, United States
ATTACH;FMTTYPE=image/jpeg:https://blackdogwinecompany.com/wp-content/uploads/2026/01/c6ff7c02d73eb73d180e7a3a15c6a5e5.jpg
END:VEVENT
END:VCALENDAR