BEGIN:VCALENDAR
VERSION:2.0
PRODID:-//Black Dog Wine Company - ECPv6.15.17.1//NONSGML v1.0//EN
CALSCALE:GREGORIAN
METHOD:PUBLISH
X-WR-CALNAME:Black Dog Wine Company
X-ORIGINAL-URL:https://blackdogwinecompany.com
X-WR-CALDESC:Events for Black Dog Wine Company
REFRESH-INTERVAL;VALUE=DURATION:PT1H
X-Robots-Tag:noindex
X-PUBLISHED-TTL:PT1H
BEGIN:VTIMEZONE
TZID:America/New_York
BEGIN:DAYLIGHT
TZOFFSETFROM:-0500
TZOFFSETTO:-0400
TZNAME:EDT
DTSTART:20250309T070000
END:DAYLIGHT
BEGIN:STANDARD
TZOFFSETFROM:-0400
TZOFFSETTO:-0500
TZNAME:EST
DTSTART:20251102T060000
END:STANDARD
BEGIN:DAYLIGHT
TZOFFSETFROM:-0500
TZOFFSETTO:-0400
TZNAME:EDT
DTSTART:20260308T070000
END:DAYLIGHT
BEGIN:STANDARD
TZOFFSETFROM:-0400
TZOFFSETTO:-0500
TZNAME:EST
DTSTART:20261101T060000
END:STANDARD
BEGIN:DAYLIGHT
TZOFFSETFROM:-0500
TZOFFSETTO:-0400
TZNAME:EDT
DTSTART:20270314T070000
END:DAYLIGHT
BEGIN:STANDARD
TZOFFSETFROM:-0400
TZOFFSETTO:-0500
TZNAME:EST
DTSTART:20271107T060000
END:STANDARD
END:VTIMEZONE
BEGIN:VEVENT
DTSTART;TZID=America/New_York:20260425T120000
DTEND;TZID=America/New_York:20260425T120000
DTSTAMP:20260425T213527
CREATED:20260327T000658Z
LAST-MODIFIED:20260425T180833Z
UID:28987-1777118400-1777118400@blackdogwinecompany.com
SUMMARY:Tealight Luminary Workshop
DESCRIPTION:Participants will select one of three premade ceramic luminaries (teacup\, flower\, cylinder) to paint to their liking. Participants will also make 12 tealight candles in the scent of their choice. \nThe cost of this workshop is $60 per person and includes everything you need to create and leave with a tealight luminary.  \nMessage Especially For You on Facebook or call/text Courtney at (724) 678-5115 to reserve your spot.
URL:https://blackdogwinecompany.com/event/tealight-luminary-workshop/
LOCATION:Black Dog Wine Company\, 7425 Steubenville Pike\, Oakdale\, PA\, 15071\, US
ATTACH;FMTTYPE=image/jpeg:https://blackdogwinecompany.com/wp-content/uploads/2026/03/28987_image_659044800_122285347952209852_8596152273768623180_n.jpg
END:VEVENT
BEGIN:VEVENT
DTSTART;TZID=America/New_York:20260425T190000
DTEND;TZID=America/New_York:20260425T210000
DTSTAMP:20260425T213527
CREATED:20260310T141908Z
LAST-MODIFIED:20260425T212257Z
UID:28236-1777143600-1777150800@blackdogwinecompany.com
SUMMARY:Live music: Anna Hazo
DESCRIPTION:Get ready to vibe with Anna Hazo’s live tunes that’ll make your day way better!
URL:https://blackdogwinecompany.com/event/live-music-anna-hazo-2/
LOCATION:Black Dog Wine Company\, 7425 Steubenville Pike\, Oakdale\, PA\, 15071\, United States
ATTACH;FMTTYPE=image/jpeg:https://blackdogwinecompany.com/wp-content/uploads/2026/03/7c59272d5d1cc25d7e3f3896e294e1bb.jpg
END:VEVENT
END:VCALENDAR